BEGIN:VCALENDAR
VERSION:2.0
PRODID:-//Clarksville Christian School - ECPv6.15.20//NONSGML v1.0//EN
CALSCALE:GREGORIAN
METHOD:PUBLISH
X-WR-CALNAME:Clarksville Christian School
X-ORIGINAL-URL:https://clarksvillechristianschool.org
X-WR-CALDESC:Events for Clarksville Christian School
REFRESH-INTERVAL;VALUE=DURATION:PT1H
X-Robots-Tag:noindex
X-PUBLISHED-TTL:PT1H
BEGIN:VTIMEZONE
TZID:America/Chicago
BEGIN:DAYLIGHT
TZOFFSETFROM:-0600
TZOFFSETTO:-0500
TZNAME:CDT
DTSTART:20230312T080000
END:DAYLIGHT
BEGIN:STANDARD
TZOFFSETFROM:-0500
TZOFFSETTO:-0600
TZNAME:CST
DTSTART:20231105T070000
END:STANDARD
BEGIN:DAYLIGHT
TZOFFSETFROM:-0600
TZOFFSETTO:-0500
TZNAME:CDT
DTSTART:20240310T080000
END:DAYLIGHT
BEGIN:STANDARD
TZOFFSETFROM:-0500
TZOFFSETTO:-0600
TZNAME:CST
DTSTART:20241103T070000
END:STANDARD
BEGIN:DAYLIGHT
TZOFFSETFROM:-0600
TZOFFSETTO:-0500
TZNAME:CDT
DTSTART:20250309T080000
END:DAYLIGHT
BEGIN:STANDARD
TZOFFSETFROM:-0500
TZOFFSETTO:-0600
TZNAME:CST
DTSTART:20251102T070000
END:STANDARD
END:VTIMEZONE
BEGIN:VEVENT
DTSTART;VALUE=DATE:20240409
DTEND;VALUE=DATE:20240410
DTSTAMP:20260423T204152
CREATED:20240311T184253Z
LAST-MODIFIED:20240319T203212Z
UID:894-1712620800-1712707199@clarksvillechristianschool.org
SUMMARY:MS Baseball vs Todd County
DESCRIPTION:
URL:https://clarksvillechristianschool.org/event/ms-baseball-vs-todd-county-april-9-2024/
CATEGORIES:Athletics
END:VEVENT
BEGIN:VEVENT
DTSTART;VALUE=DATE:20240409
DTEND;VALUE=DATE:20240410
DTSTAMP:20260423T204152
CREATED:20240311T184254Z
LAST-MODIFIED:20240319T203015Z
UID:899-1712620800-1712707199@clarksvillechristianschool.org
SUMMARY:MS Baseball vs Todd County
DESCRIPTION:
URL:https://clarksvillechristianschool.org/event/ms-baseball-vs-todd-county-april-9-2024-2/
CATEGORIES:Athletics
END:VEVENT
BEGIN:VEVENT
DTSTART;TZID=America/Chicago:20240409T163000
DTEND;TZID=America/Chicago:20240409T200000
DTSTAMP:20260423T204152
CREATED:20240311T184235Z
LAST-MODIFIED:20240319T204147Z
UID:893-1712680200-1712692800@clarksvillechristianschool.org
SUMMARY:MS/HS Soccer @ Academy for G.O.D.
DESCRIPTION:MS – 4:30pm\n\nHS – 6:00pm
URL:https://clarksvillechristianschool.org/event/ms-hs-soccer-academy-for-g-o-d-430-600-april-9-2024/
CATEGORIES:Athletics
END:VEVENT
END:VCALENDAR