BEGIN:VCALENDAR
VERSION:2.0
PRODID:-//Clarksville Christian School - ECPv6.15.20//NONSGML v1.0//EN
CALSCALE:GREGORIAN
METHOD:PUBLISH
X-WR-CALNAME:Clarksville Christian School
X-ORIGINAL-URL:https://clarksvillechristianschool.org
X-WR-CALDESC:Events for Clarksville Christian School
REFRESH-INTERVAL;VALUE=DURATION:PT1H
X-Robots-Tag:noindex
X-PUBLISHED-TTL:PT1H
BEGIN:VTIMEZONE
TZID:America/Chicago
BEGIN:DAYLIGHT
TZOFFSETFROM:-0600
TZOFFSETTO:-0500
TZNAME:CDT
DTSTART:20230312T080000
END:DAYLIGHT
BEGIN:STANDARD
TZOFFSETFROM:-0500
TZOFFSETTO:-0600
TZNAME:CST
DTSTART:20231105T070000
END:STANDARD
BEGIN:DAYLIGHT
TZOFFSETFROM:-0600
TZOFFSETTO:-0500
TZNAME:CDT
DTSTART:20240310T080000
END:DAYLIGHT
BEGIN:STANDARD
TZOFFSETFROM:-0500
TZOFFSETTO:-0600
TZNAME:CST
DTSTART:20241103T070000
END:STANDARD
BEGIN:DAYLIGHT
TZOFFSETFROM:-0600
TZOFFSETTO:-0500
TZNAME:CDT
DTSTART:20250309T080000
END:DAYLIGHT
BEGIN:STANDARD
TZOFFSETFROM:-0500
TZOFFSETTO:-0600
TZNAME:CST
DTSTART:20251102T070000
END:STANDARD
END:VTIMEZONE
BEGIN:VEVENT
DTSTART;TZID=America/Chicago:20240411T163000
DTEND;TZID=America/Chicago:20240411T203000
DTSTAMP:20260423T204104
CREATED:20240311T184254Z
LAST-MODIFIED:20240319T200902Z
UID:897-1712853000-1712867400@clarksvillechristianschool.org
SUMMARY:MS/HS Baseball @ Franklin Christian
DESCRIPTION:MS – 4:30pm\n\nHS – 6:00pm
URL:https://clarksvillechristianschool.org/event/ms-hs-baseball-franklin-christian-430-630-april-11-2024/
CATEGORIES:Athletics
END:VEVENT
BEGIN:VEVENT
DTSTART;TZID=America/Chicago:20240411T163000
DTEND;TZID=America/Chicago:20240411T203000
DTSTAMP:20260423T204104
CREATED:20240311T184255Z
LAST-MODIFIED:20240319T202758Z
UID:902-1712853000-1712867400@clarksvillechristianschool.org
SUMMARY:MS/HS Baseball @ Franklin Christian
DESCRIPTION:MS – 4:30pm\n\nHS – 6:30pm
URL:https://clarksvillechristianschool.org/event/ms-hs-baseball-franklin-christian-430-630-april-11-2024-2/
CATEGORIES:Athletics
END:VEVENT
BEGIN:VEVENT
DTSTART;TZID=America/Chicago:20240411T170000
DTEND;TZID=America/Chicago:20240411T190000
DTSTAMP:20260423T204104
CREATED:20240311T184254Z
LAST-MODIFIED:20240319T202916Z
UID:898-1712854800-1712862000@clarksvillechristianschool.org
SUMMARY:HS Softball vs Zion Christian (Doubleheader)
DESCRIPTION:
URL:https://clarksvillechristianschool.org/event/hs-softball-vs-zion-christian-500-doubleheader-april-11-2024/
CATEGORIES:Athletics
END:VEVENT
BEGIN:VEVENT
DTSTART;TZID=America/Chicago:20240411T170000
DTEND;TZID=America/Chicago:20240411T210000
DTSTAMP:20260423T204104
CREATED:20240311T184255Z
LAST-MODIFIED:20240319T200733Z
UID:903-1712854800-1712869200@clarksvillechristianschool.org
SUMMARY:HS Softball vs Zion Christian (Doubleheader)
DESCRIPTION:
URL:https://clarksvillechristianschool.org/event/hs-softball-vs-zion-christian-500-doubleheader-april-11-2024-2/
CATEGORIES:Athletics
END:VEVENT
END:VCALENDAR