BEGIN:VCALENDAR
VERSION:2.0
PRODID:-//Clarksville Christian School - ECPv6.15.20//NONSGML v1.0//EN
CALSCALE:GREGORIAN
METHOD:PUBLISH
X-WR-CALNAME:Clarksville Christian School
X-ORIGINAL-URL:https://clarksvillechristianschool.org
X-WR-CALDESC:Events for Clarksville Christian School
REFRESH-INTERVAL;VALUE=DURATION:PT1H
X-Robots-Tag:noindex
X-PUBLISHED-TTL:PT1H
BEGIN:VTIMEZONE
TZID:America/Chicago
BEGIN:DAYLIGHT
TZOFFSETFROM:-0600
TZOFFSETTO:-0500
TZNAME:CDT
DTSTART:20230312T080000
END:DAYLIGHT
BEGIN:STANDARD
TZOFFSETFROM:-0500
TZOFFSETTO:-0600
TZNAME:CST
DTSTART:20231105T070000
END:STANDARD
BEGIN:DAYLIGHT
TZOFFSETFROM:-0600
TZOFFSETTO:-0500
TZNAME:CDT
DTSTART:20240310T080000
END:DAYLIGHT
BEGIN:STANDARD
TZOFFSETFROM:-0500
TZOFFSETTO:-0600
TZNAME:CST
DTSTART:20241103T070000
END:STANDARD
BEGIN:DAYLIGHT
TZOFFSETFROM:-0600
TZOFFSETTO:-0500
TZNAME:CDT
DTSTART:20250309T080000
END:DAYLIGHT
BEGIN:STANDARD
TZOFFSETFROM:-0500
TZOFFSETTO:-0600
TZNAME:CST
DTSTART:20251102T070000
END:STANDARD
END:VTIMEZONE
BEGIN:VEVENT
DTSTART;TZID=America/Chicago:20240415T160000
DTEND;TZID=America/Chicago:20240415T180000
DTSTAMP:20260423T204153
CREATED:20240311T184330Z
LAST-MODIFIED:20240319T200016Z
UID:909-1713196800-1713204000@clarksvillechristianschool.org
SUMMARY:HS Softball @ South Haven
DESCRIPTION:
URL:https://clarksvillechristianschool.org/event/hs-softball-south-haven-400-april-15-2024/
CATEGORIES:Athletics
END:VEVENT
BEGIN:VEVENT
DTSTART;TZID=America/Chicago:20240415T160000
DTEND;TZID=America/Chicago:20240415T200000
DTSTAMP:20260423T204153
CREATED:20240311T184313Z
LAST-MODIFIED:20240319T202735Z
UID:908-1713196800-1713211200@clarksvillechristianschool.org
SUMMARY:MS/HS Baseball vs South Haven
DESCRIPTION:MS – 4:00pm\n\nHS – 6:00pm
URL:https://clarksvillechristianschool.org/event/ms-hs-baseball-vs-south-haven-400-600-april-15-2024/
CATEGORIES:Athletics
END:VEVENT
BEGIN:VEVENT
DTSTART;TZID=America/Chicago:20240415T163000
DTEND;TZID=America/Chicago:20240415T203000
DTSTAMP:20260423T204153
CREATED:20240311T184330Z
LAST-MODIFIED:20240319T200105Z
UID:910-1713198600-1713213000@clarksvillechristianschool.org
SUMMARY:MS/HS Soccer @ Lighthouse Christian
DESCRIPTION:MS – 4:30pm\n\nHS – 6:00pm
URL:https://clarksvillechristianschool.org/event/ms-hs-soccer-lighthouse-christian-430-600-april-15-2024/
CATEGORIES:Athletics
END:VEVENT
END:VCALENDAR