BEGIN:VCALENDAR
VERSION:2.0
PRODID:-//Clarksville Christian School - ECPv6.15.20//NONSGML v1.0//EN
CALSCALE:GREGORIAN
METHOD:PUBLISH
X-WR-CALNAME:Clarksville Christian School
X-ORIGINAL-URL:https://clarksvillechristianschool.org
X-WR-CALDESC:Events for Clarksville Christian School
REFRESH-INTERVAL;VALUE=DURATION:PT1H
X-Robots-Tag:noindex
X-PUBLISHED-TTL:PT1H
BEGIN:VTIMEZONE
TZID:America/Chicago
BEGIN:DAYLIGHT
TZOFFSETFROM:-0600
TZOFFSETTO:-0500
TZNAME:CDT
DTSTART:20230312T080000
END:DAYLIGHT
BEGIN:STANDARD
TZOFFSETFROM:-0500
TZOFFSETTO:-0600
TZNAME:CST
DTSTART:20231105T070000
END:STANDARD
BEGIN:DAYLIGHT
TZOFFSETFROM:-0600
TZOFFSETTO:-0500
TZNAME:CDT
DTSTART:20240310T080000
END:DAYLIGHT
BEGIN:STANDARD
TZOFFSETFROM:-0500
TZOFFSETTO:-0600
TZNAME:CST
DTSTART:20241103T070000
END:STANDARD
BEGIN:DAYLIGHT
TZOFFSETFROM:-0600
TZOFFSETTO:-0500
TZNAME:CDT
DTSTART:20250309T080000
END:DAYLIGHT
BEGIN:STANDARD
TZOFFSETFROM:-0500
TZOFFSETTO:-0600
TZNAME:CST
DTSTART:20251102T070000
END:STANDARD
END:VTIMEZONE
BEGIN:VEVENT
DTSTART;TZID=America/Chicago:20240418T163000
DTEND;TZID=America/Chicago:20240418T203000
DTSTAMP:20260423T204106
CREATED:20240311T184342Z
LAST-MODIFIED:20240319T195700Z
UID:916-1713457800-1713472200@clarksvillechristianschool.org
SUMMARY:MS/HS Baseball @ Franklin Road Christian
DESCRIPTION:MS – 4:30pm\n\nHS – 6:30pm
URL:https://clarksvillechristianschool.org/event/ms-hs-baseball-franklin-road-christian-430-630-april-18-2024/
CATEGORIES:Athletics
END:VEVENT
BEGIN:VEVENT
DTSTART;TZID=America/Chicago:20240418T173000
DTEND;TZID=America/Chicago:20240418T193000
DTSTAMP:20260423T204106
CREATED:20240311T184342Z
LAST-MODIFIED:20240319T195733Z
UID:917-1713461400-1713468600@clarksvillechristianschool.org
SUMMARY:MS Soccer @ Sumner Academy
DESCRIPTION:
URL:https://clarksvillechristianschool.org/event/ms-soccer-sumner-academy-530-april-18-2024/
CATEGORIES:Athletics
END:VEVENT
BEGIN:VEVENT
DTSTART;TZID=America/Chicago:20240418T173000
DTEND;TZID=America/Chicago:20240418T193000
DTSTAMP:20260423T204106
CREATED:20240311T184343Z
LAST-MODIFIED:20240319T195433Z
UID:918-1713461400-1713468600@clarksvillechristianschool.org
SUMMARY:HS Softball @ Franklin Road Christian
DESCRIPTION:
URL:https://clarksvillechristianschool.org/event/hs-softball-franklin-road-christian-530-april-18-2024/
CATEGORIES:Athletics
END:VEVENT
END:VCALENDAR