BEGIN:VCALENDAR
VERSION:2.0
PRODID:-//Clarksville Christian School - ECPv6.15.20//NONSGML v1.0//EN
CALSCALE:GREGORIAN
METHOD:PUBLISH
X-WR-CALNAME:Clarksville Christian School
X-ORIGINAL-URL:https://clarksvillechristianschool.org
X-WR-CALDESC:Events for Clarksville Christian School
REFRESH-INTERVAL;VALUE=DURATION:PT1H
X-Robots-Tag:noindex
X-PUBLISHED-TTL:PT1H
BEGIN:VTIMEZONE
TZID:America/Chicago
BEGIN:DAYLIGHT
TZOFFSETFROM:-0600
TZOFFSETTO:-0500
TZNAME:CDT
DTSTART:20240310T080000
END:DAYLIGHT
BEGIN:STANDARD
TZOFFSETFROM:-0500
TZOFFSETTO:-0600
TZNAME:CST
DTSTART:20241103T070000
END:STANDARD
BEGIN:DAYLIGHT
TZOFFSETFROM:-0600
TZOFFSETTO:-0500
TZNAME:CDT
DTSTART:20250309T080000
END:DAYLIGHT
BEGIN:STANDARD
TZOFFSETFROM:-0500
TZOFFSETTO:-0600
TZNAME:CST
DTSTART:20251102T070000
END:STANDARD
BEGIN:DAYLIGHT
TZOFFSETFROM:-0600
TZOFFSETTO:-0500
TZNAME:CDT
DTSTART:20260308T080000
END:DAYLIGHT
BEGIN:STANDARD
TZOFFSETFROM:-0500
TZOFFSETTO:-0600
TZNAME:CST
DTSTART:20261101T070000
END:STANDARD
END:VTIMEZONE
BEGIN:VEVENT
DTSTART;TZID=America/Chicago:20250214T113000
DTEND;TZID=America/Chicago:20250214T113000
DTSTAMP:20260425T060924
CREATED:20240311T190530Z
LAST-MODIFIED:20241203T210222Z
UID:1015-1739532600-1739532600@clarksvillechristianschool.org
SUMMARY:(CCS) Student Half Day
DESCRIPTION:Lower School – 11:30am\n\nUpper School – 12:00pm
URL:https://clarksvillechristianschool.org/event/ccs-student-half-day-ls-1130-us-1200-february-14-2025/
CATEGORIES:Academic,Upper School,Lower School
ATTACH;FMTTYPE=image/jpeg:https://clarksvillechristianschool.org/wp-content/uploads/Half-Day.jpeg
END:VEVENT
BEGIN:VEVENT
DTSTART;TZID=America/Chicago:20250220T080000
DTEND;TZID=America/Chicago:20250220T170000
DTSTAMP:20260425T060924
CREATED:20241203T210626Z
LAST-MODIFIED:20241203T210626Z
UID:2915-1740038400-1740070800@clarksvillechristianschool.org
SUMMARY:(LS) Fine Arts Night
DESCRIPTION:4th and 5th Grade.
URL:https://clarksvillechristianschool.org/event/ls-fine-arts-night/
CATEGORIES:Lower School,Arts
ATTACH;FMTTYPE=image/jpeg:https://clarksvillechristianschool.org/wp-content/uploads/students-in-music-class.jpg
END:VEVENT
END:VCALENDAR