BEGIN:VCALENDAR
VERSION:2.0
PRODID:-//Clarksville Christian School - ECPv6.15.18//NONSGML v1.0//EN
CALSCALE:GREGORIAN
METHOD:PUBLISH
X-WR-CALNAME:Clarksville Christian School
X-ORIGINAL-URL:https://clarksvillechristianschool.org
X-WR-CALDESC:Events for Clarksville Christian School
REFRESH-INTERVAL;VALUE=DURATION:PT1H
X-Robots-Tag:noindex
X-PUBLISHED-TTL:PT1H
BEGIN:VTIMEZONE
TZID:America/Chicago
BEGIN:DAYLIGHT
TZOFFSETFROM:-0600
TZOFFSETTO:-0500
TZNAME:CDT
DTSTART:20250309T080000
END:DAYLIGHT
BEGIN:STANDARD
TZOFFSETFROM:-0500
TZOFFSETTO:-0600
TZNAME:CST
DTSTART:20251102T070000
END:STANDARD
BEGIN:DAYLIGHT
TZOFFSETFROM:-0600
TZOFFSETTO:-0500
TZNAME:CDT
DTSTART:20260308T080000
END:DAYLIGHT
BEGIN:STANDARD
TZOFFSETFROM:-0500
TZOFFSETTO:-0600
TZNAME:CST
DTSTART:20261101T070000
END:STANDARD
BEGIN:DAYLIGHT
TZOFFSETFROM:-0600
TZOFFSETTO:-0500
TZNAME:CDT
DTSTART:20270314T080000
END:DAYLIGHT
BEGIN:STANDARD
TZOFFSETFROM:-0500
TZOFFSETTO:-0600
TZNAME:CST
DTSTART:20271107T070000
END:STANDARD
END:VTIMEZONE
BEGIN:VEVENT
DTSTART;TZID=America/Chicago:20260515T080000
DTEND;TZID=America/Chicago:20260515T120000
DTSTAMP:20260420T145706
CREATED:20240703T151114Z
LAST-MODIFIED:20251120T171011Z
UID:2784-1778832000-1778846400@clarksvillechristianschool.org
SUMMARY:Student Half Day; Last Day of School
DESCRIPTION:
URL:https://clarksvillechristianschool.org/event/student-half-day-3/
ATTACH;FMTTYPE=image/jpeg:https://clarksvillechristianschool.org/wp-content/uploads/Half-Day.jpeg
END:VEVENT
BEGIN:VEVENT
DTSTART;TZID=America/Chicago:20260515T170000
DTEND;TZID=America/Chicago:20260515T183000
DTSTAMP:20260420T145706
CREATED:20240311T192808Z
LAST-MODIFIED:20251120T170844Z
UID:1037-1778864400-1778869800@clarksvillechristianschool.org
SUMMARY:(CCS) Graduation
DESCRIPTION:
URL:https://clarksvillechristianschool.org/event/ccs-graduation-may-16-2025/
CATEGORIES:Academic
ATTACH;FMTTYPE=image/jpeg:https://clarksvillechristianschool.org/wp-content/uploads/graduation-hats-in-air.jpg
END:VEVENT
END:VCALENDAR